BEGIN:VCALENDAR
PRODID:-//HKUST Drupal Platform//EN
VERSION:2.0
BEGIN:VTIMEZONE
TZID:Asia/Hong_Kong
BEGIN:STANDARD
DTSTART:20071104T020000
TZOFFSETFROM:+0700
TZOFFSETTO:+0800
TZNAME:HKT
END:STANDARD
END:VTIMEZONE
BEGIN:VEVENT
DTSTAMP;TZID=Asia/Hong_Kong:20260420T180846
DTSTART;TZID=Asia/Hong_Kong:20250428T103000
DTEND;TZID=Asia/Hong_Kong:20250428T123000
LOCATION:Room 3598, 3/F (Lifts 27-28), Academic Building
SUMMARY:Department of Chemistry Seminar - From Light to Enzymes: Innovative Strategies for Selective Radical Transformations
UID:43824
END:VEVENT
END:VCALENDAR