BEGIN:VCALENDAR
PRODID:-//HKUST Drupal Platform//EN
VERSION:2.0
BEGIN:VTIMEZONE
TZID:Asia/Hong_Kong
BEGIN:STANDARD
DTSTART:20071104T020000
TZOFFSETFROM:+0700
TZOFFSETTO:+0800
TZNAME:HKT
END:STANDARD
END:VTIMEZONE
BEGIN:VEVENT
DTSTAMP;TZID=Asia/Hong_Kong:20260426T010013
DTSTART;TZID=Asia/Hong_Kong:20250612T140000
DTEND;TZID=Asia/Hong_Kong:20250612T170000
LOCATION: , HKUST
SUMMARY:PHD in Chemistry - Anticancer Activity and Mechanism of Action of Bioactive Natural Products
UID:43816
END:VEVENT
END:VCALENDAR