BEGIN:VCALENDAR
PRODID:-//HKUST Drupal Platform//EN
VERSION:2.0
BEGIN:VTIMEZONE
TZID:Asia/Hong_Kong
BEGIN:STANDARD
DTSTART:20071104T020000
TZOFFSETFROM:+0700
TZOFFSETTO:+0800
TZNAME:HKT
END:STANDARD
END:VTIMEZONE
BEGIN:VEVENT
DTSTAMP;TZID=Asia/Hong_Kong:20260425T212610
DTSTART;TZID=Asia/Hong_Kong:20250522T140000
DTEND;TZID=Asia/Hong_Kong:20250522T170000
LOCATION: , HKUST
SUMMARY:MPhil in Individu Interdisci Prog - Hardware Design of High-Performance Handheld 3D Scanner with VLM-Enhanced Semantic Mapping
UID:43770
END:VEVENT
END:VCALENDAR