BEGIN:VCALENDAR
PRODID:-//HKUST Drupal Platform//EN
VERSION:2.0
BEGIN:VTIMEZONE
TZID:Asia/Hong_Kong
BEGIN:STANDARD
DTSTART:20071104T020000
TZOFFSETFROM:+0700
TZOFFSETTO:+0800
TZNAME:HKT
END:STANDARD
END:VTIMEZONE
BEGIN:VEVENT
DTSTAMP;TZID=Asia/Hong_Kong:20260426T010012
DTSTART;TZID=Asia/Hong_Kong:20250523T100000
DTEND;TZID=Asia/Hong_Kong:20250523T130000
LOCATION: , HKUST
SUMMARY:MPhil in Integrative Sys & Design - Technological Applications of Novel Laser-induced Metallo-based Materials on Public Health
UID:43730
END:VEVENT
END:VCALENDAR