BEGIN:VCALENDAR
PRODID:-//HKUST Drupal Platform//EN
VERSION:2.0
BEGIN:VTIMEZONE
TZID:Asia/Hong_Kong
BEGIN:STANDARD
DTSTART:20071104T020000
TZOFFSETFROM:+0700
TZOFFSETTO:+0800
TZNAME:HKT
END:STANDARD
END:VTIMEZONE
BEGIN:VEVENT
DTSTAMP;TZID=Asia/Hong_Kong:20260425T220746
DTSTART;TZID=Asia/Hong_Kong:20250516T163000
DTEND;TZID=Asia/Hong_Kong:20250516T193000
LOCATION: , HKUST
SUMMARY:MPhil in Physics - Designing versatile optical traps for neutral atom quantum simulation
UID:43662
END:VEVENT
END:VCALENDAR