BEGIN:VCALENDAR
PRODID:-//HKUST Drupal Platform//EN
VERSION:2.0
BEGIN:VTIMEZONE
TZID:Asia/Hong_Kong
BEGIN:STANDARD
DTSTART:20071104T020000
TZOFFSETFROM:+0700
TZOFFSETTO:+0800
TZNAME:HKT
END:STANDARD
END:VTIMEZONE
BEGIN:VEVENT
DTSTAMP;TZID=Asia/Hong_Kong:20260425T224558
DTSTART;TZID=Asia/Hong_Kong:20250512T150000
DTEND;TZID=Asia/Hong_Kong:20250512T180000
LOCATION:Room 4475 (Lifts 25-26), 4/F Academic Building, HKUST
SUMMARY:PHD in Mathematics - Exploring Decision-Making in Reinforcement Learning: Contextual Bandits with Knapsacks, Multi-Agent Systems, and Continuous Control
UID:43632
END:VEVENT
END:VCALENDAR