BEGIN:VCALENDAR
PRODID:-//HKUST Drupal Platform//EN
VERSION:2.0
BEGIN:VTIMEZONE
TZID:Asia/Hong_Kong
BEGIN:STANDARD
DTSTART:20071104T020000
TZOFFSETFROM:+0700
TZOFFSETTO:+0800
TZNAME:HKT
END:STANDARD
END:VTIMEZONE
BEGIN:VEVENT
DTSTAMP;TZID=Asia/Hong_Kong:20260420T180826
DTSTART;TZID=Asia/Hong_Kong:20250224T000000
DTEND;TZID=Asia/Hong_Kong:20250307T235900
LOCATION:HKUST
SUMMARY:Win Camera Gadget through “Your Backyard, Your Lens” – Biodiversity Photo Competition
UID:43619
END:VEVENT
END:VCALENDAR