BEGIN:VCALENDAR
PRODID:-//HKUST Drupal Platform//EN
VERSION:2.0
BEGIN:VTIMEZONE
TZID:Asia/Hong_Kong
BEGIN:STANDARD
DTSTART:20071104T020000
TZOFFSETFROM:+0700
TZOFFSETTO:+0800
TZNAME:HKT
END:STANDARD
END:VTIMEZONE
BEGIN:VEVENT
DTSTAMP;TZID=Asia/Hong_Kong:20260425T224602
DTSTART;TZID=Asia/Hong_Kong:20250602T170000
DTEND;TZID=Asia/Hong_Kong:20250602T200000
LOCATION: , HKUST
SUMMARY:MPhil in Computer Science & Engg - Enhancing Compiler Optimization Efficiency through Grammatical Decompositions of Control-Flow Graphs
UID:43465
END:VEVENT
END:VCALENDAR