BEGIN:VCALENDAR
PRODID:-//HKUST Drupal Platform//EN
VERSION:2.0
BEGIN:VTIMEZONE
TZID:Asia/Hong_Kong
BEGIN:STANDARD
DTSTART:20071104T020000
TZOFFSETFROM:+0700
TZOFFSETTO:+0800
TZNAME:HKT
END:STANDARD
END:VTIMEZONE
BEGIN:VEVENT
DTSTAMP;TZID=Asia/Hong_Kong:20260420T165541
DTSTART;TZID=Asia/Hong_Kong:20250322T090000
DTEND;TZID=Asia/Hong_Kong:20250322T170000
LOCATION:LTA, Academic Building
SUMMARY:Department of Chemistry - The 31st Symposium on Chemistry Postgraduate Research in Hong Kong
UID:43231
END:VEVENT
END:VCALENDAR