BEGIN:VCALENDAR
PRODID:-//HKUST Drupal Platform//EN
VERSION:2.0
BEGIN:VTIMEZONE
TZID:Asia/Hong_Kong
BEGIN:STANDARD
DTSTART:20071104T020000
TZOFFSETFROM:+0700
TZOFFSETTO:+0800
TZNAME:HKT
END:STANDARD
END:VTIMEZONE
BEGIN:VEVENT
DTSTAMP;TZID=Asia/Hong_Kong:20260426T010016
DTSTART;TZID=Asia/Hong_Kong:20250313T133000
DTEND;TZID=Asia/Hong_Kong:20250313T150000
LOCATION:Tsang Shiu Tim Art Hall, G/F Academic Building (near Starbucks)
SUMMARY:“From the Other Side of the Emotional Ocean” – Talk & Sharing Session: Emi Wong
UID:43171
END:VEVENT
END:VCALENDAR