BEGIN:VCALENDAR
PRODID:-//HKUST Drupal Platform//EN
VERSION:2.0
BEGIN:VTIMEZONE
TZID:Asia/Hong_Kong
BEGIN:STANDARD
DTSTART:20071104T020000
TZOFFSETFROM:+0700
TZOFFSETTO:+0800
TZNAME:HKT
END:STANDARD
END:VTIMEZONE
BEGIN:VEVENT
DTSTAMP;TZID=Asia/Hong_Kong:20260426T103341
DTSTART;TZID=Asia/Hong_Kong:20250127T100000
DTEND;TZID=Asia/Hong_Kong:20250127T130000
LOCATION:Room 5506 (Lifts 25-26), 5/F Academic Building, HKUST
SUMMARY:MPhil in Life Science - The effect of depletion of Cdc27 and its mutants on the cell cycle
UID:43059
END:VEVENT
END:VCALENDAR