BEGIN:VCALENDAR
PRODID:-//HKUST Drupal Platform//EN
VERSION:2.0
BEGIN:VTIMEZONE
TZID:Asia/Hong_Kong
BEGIN:STANDARD
DTSTART:20071104T020000
TZOFFSETFROM:+0700
TZOFFSETTO:+0800
TZNAME:HKT
END:STANDARD
END:VTIMEZONE
BEGIN:VEVENT
DTSTAMP;TZID=Asia/Hong_Kong:20260426T103341
DTSTART;TZID=Asia/Hong_Kong:20250113T100000
DTEND;TZID=Asia/Hong_Kong:20250113T130000
LOCATION:Room 2503 (Lifts 25-26), 2/F Academic Building, HKUST
SUMMARY:PHD in Electronic & Comp Engg - Millimeter-Wave Wideband High-Linearity Fast-Chirp-Rate Low-Phase-Noise Fast-Convergence CMOS FMCW Frequency Synthesizers
UID:42948
END:VEVENT
END:VCALENDAR