BEGIN:VCALENDAR
PRODID:-//HKUST Drupal Platform//EN
VERSION:2.0
BEGIN:VTIMEZONE
TZID:Asia/Hong_Kong
BEGIN:STANDARD
DTSTART:20071104T020000
TZOFFSETFROM:+0700
TZOFFSETTO:+0800
TZNAME:HKT
END:STANDARD
END:VTIMEZONE
BEGIN:VEVENT
DTSTAMP;TZID=Asia/Hong_Kong:20260426T045613
DTSTART;TZID=Asia/Hong_Kong:20250109T090000
DTEND;TZID=Asia/Hong_Kong:20250109T120000
LOCATION:Room 5562 (Lifts 27-28), HKUST
SUMMARY:PHD in Bioengineering - Design and Application of Aggregation-Induced Emission Materials for Gene Detection and Cancer Theranostics
UID:42916
END:VEVENT
END:VCALENDAR