BEGIN:VCALENDAR
PRODID:-//HKUST Drupal Platform//EN
VERSION:2.0
BEGIN:VTIMEZONE
TZID:Asia/Hong_Kong
BEGIN:STANDARD
DTSTART:20071104T020000
TZOFFSETFROM:+0700
TZOFFSETTO:+0800
TZNAME:HKT
END:STANDARD
END:VTIMEZONE
BEGIN:VEVENT
DTSTAMP;TZID=Asia/Hong_Kong:20260420T202105
DTSTART;TZID=Asia/Hong_Kong:20241217T130000
DTEND;TZID=Asia/Hong_Kong:20241217T140000
LOCATION:SSC Hub (next to Passione restaurant)
SUMMARY:SSC Christmas Show 2024
UID:42865
END:VEVENT
END:VCALENDAR