BEGIN:VCALENDAR
PRODID:-//HKUST Drupal Platform//EN
VERSION:2.0
BEGIN:VTIMEZONE
TZID:Asia/Hong_Kong
BEGIN:STANDARD
DTSTART:20071104T020000
TZOFFSETFROM:+0700
TZOFFSETTO:+0800
TZNAME:HKT
END:STANDARD
END:VTIMEZONE
BEGIN:VEVENT
DTSTAMP;TZID=Asia/Hong_Kong:20260426T103340
DTSTART;TZID=Asia/Hong_Kong:20250115T153000
DTEND;TZID=Asia/Hong_Kong:20250115T183000
LOCATION: , HKUST
SUMMARY:MPhil in Life Science - Biochemical and Structural Characteristics of Neuromuscular Junction Key Protein: Rapsyn
UID:42791
END:VEVENT
END:VCALENDAR