BEGIN:VCALENDAR
PRODID:-//HKUST Drupal Platform//EN
VERSION:2.0
BEGIN:VTIMEZONE
TZID:Asia/Hong_Kong
BEGIN:STANDARD
DTSTART:20071104T020000
TZOFFSETFROM:+0700
TZOFFSETTO:+0800
TZNAME:HKT
END:STANDARD
END:VTIMEZONE
BEGIN:VEVENT
DTSTAMP;TZID=Asia/Hong_Kong:20260420T180833
DTSTART;TZID=Asia/Hong_Kong:20241126T130000
DTEND;TZID=Asia/Hong_Kong:20241126T140000
LOCATION:SSC Hub (next to Passion restaurant)
SUMMARY:SSC Student Competition: Vote for Your Favourite Idea and Join Us for Booth Day on 26 & 27 Nov!  - We are proud of the excellent entries in this year’s SSC Student Competition and encourage you to learn about the shortlisted top 10 entries, which showcases innovative ideas aimed at making our campus a much more sustainable place to enjoy!     Visit the following voting page to explore the remarkable ideas proposed by our talented students. Each staff and student can vote for up to five entries in each category, duplicate submissions will be counted only once. The voting period ends on 27 November 2024.   Living Lab Project - turn ideas into reality (click HERE to vote) - The top five successful group proposals will have an opportunity to implement their project on campus during the 2024/25 academic year with $25,000 budget and support, subject to the feasibility of project implementation.    Ideation Challenge - for cool ideas (click HERE to vote) - The top five winners will receive a cash award of $2,000 and the bragging rights of being an SSC creative champion! 
UID:42727
END:VEVENT
BEGIN:VEVENT
DTSTAMP;TZID=Asia/Hong_Kong:20260420T180833
DTSTART;TZID=Asia/Hong_Kong:20241127T130000
DTEND;TZID=Asia/Hong_Kong:20241127T140000
LOCATION:SSC Hub (next to Passion restaurant)
SUMMARY:SSC Student Competition: Vote for Your Favourite Idea and Join Us for Booth Day on 26 & 27 Nov!  - We are proud of the excellent entries in this year’s SSC Student Competition and encourage you to learn about the shortlisted top 10 entries, which showcases innovative ideas aimed at making our campus a much more sustainable place to enjoy!     Visit the following voting page to explore the remarkable ideas proposed by our talented students. Each staff and student can vote for up to five entries in each category, duplicate submissions will be counted only once. The voting period ends on 27 November 2024.   Living Lab Project - turn ideas into reality (click HERE to vote) - The top five successful group proposals will have an opportunity to implement their project on campus during the 2024/25 academic year with $25,000 budget and support, subject to the feasibility of project implementation.    Ideation Challenge - for cool ideas (click HERE to vote) - The top five winners will receive a cash award of $2,000 and the bragging rights of being an SSC creative champion! 
UID:42727
END:VEVENT
END:VCALENDAR