BEGIN:VCALENDAR
PRODID:-//HKUST Drupal Platform//EN
VERSION:2.0
BEGIN:VTIMEZONE
TZID:Asia/Hong_Kong
BEGIN:STANDARD
DTSTART:20071104T020000
TZOFFSETFROM:+0700
TZOFFSETTO:+0800
TZNAME:HKT
END:STANDARD
END:VTIMEZONE
BEGIN:VEVENT
DTSTAMP;TZID=Asia/Hong_Kong:20260420T180847
DTSTART;TZID=Asia/Hong_Kong:20241030T100000
DTEND;TZID=Asia/Hong_Kong:20241030T113000
LOCATION:LG5 313 (Conference Room)
SUMMARY:SSC Call for Proposals - Brainstorming Workshop 2024
UID:42400
END:VEVENT
END:VCALENDAR