BEGIN:VCALENDAR
PRODID:-//HKUST Drupal Platform//EN
VERSION:2.0
BEGIN:VTIMEZONE
TZID:Asia/Hong_Kong
BEGIN:STANDARD
DTSTART:20071104T020000
TZOFFSETFROM:+0700
TZOFFSETTO:+0800
TZNAME:HKT
END:STANDARD
END:VTIMEZONE
BEGIN:VEVENT
DTSTAMP;TZID=Asia/Hong_Kong:20260424T043919
DTSTART;TZID=Asia/Hong_Kong:20241024T120000
DTEND;TZID=Asia/Hong_Kong:20241024T130000
LOCATION:W1-102 (Zoom:  982 4717 4809 Code: 20241024)
SUMMARY:Lunch Talk Series by Earth, Ocean and Atmospheric Sciences (EOAS) Thrust, HKUST (GZ)  - Underrepresented Drivers of Plant Growth Dynamics Beyond Climate植被物候及生长的驱动因素
UID:42326
END:VEVENT
END:VCALENDAR