BEGIN:VCALENDAR
PRODID:-//HKUST Drupal Platform//EN
VERSION:2.0
BEGIN:VTIMEZONE
TZID:Asia/Hong_Kong
BEGIN:STANDARD
DTSTART:20071104T020000
TZOFFSETFROM:+0700
TZOFFSETTO:+0800
TZNAME:HKT
END:STANDARD
END:VTIMEZONE
BEGIN:VEVENT
DTSTAMP;TZID=Asia/Hong_Kong:20260420T214737
DTSTART;TZID=Asia/Hong_Kong:20241003T120000
DTEND;TZID=Asia/Hong_Kong:20241003T143000
LOCATION:Academic Concourse outside LT-J
SUMMARY:Low·CO₂ Food Tasting Tour
UID:42133
END:VEVENT
END:VCALENDAR