BEGIN:VCALENDAR
PRODID:-//HKUST Drupal Platform//EN
VERSION:2.0
BEGIN:VTIMEZONE
TZID:Asia/Hong_Kong
BEGIN:STANDARD
DTSTART:20071104T020000
TZOFFSETFROM:+0700
TZOFFSETTO:+0800
TZNAME:HKT
END:STANDARD
END:VTIMEZONE
BEGIN:VEVENT
DTSTAMP;TZID=Asia/Hong_Kong:20260420T194001
DTSTART;TZID=Asia/Hong_Kong:20240924T153000
DTEND;TZID=Asia/Hong_Kong:20240924T163000
LOCATION:Room 4579, 4/F (Lifts 27-28), Academic Building
SUMMARY:Department of Chemistry - PhD Student Seminar - Introduction to Fragment based drug discovery and its application in search of antibiotics
UID:42066
END:VEVENT
END:VCALENDAR