BEGIN:VCALENDAR
PRODID:-//HKUST Drupal Platform//EN
VERSION:2.0
BEGIN:VTIMEZONE
TZID:Asia/Hong_Kong
BEGIN:STANDARD
DTSTART:20071104T020000
TZOFFSETFROM:+0700
TZOFFSETTO:+0800
TZNAME:HKT
END:STANDARD
END:VTIMEZONE
BEGIN:VEVENT
DTSTAMP;TZID=Asia/Hong_Kong:20260420T190208
DTSTART;TZID=Asia/Hong_Kong:20240902T123000
DTEND;TZID=Asia/Hong_Kong:20240902T133000
LOCATION:SSC Hub (next to Passion restaurant)
SUMMARY:Information Drop-In Session for our 2024 Sustainable Smart Campus Student Competition 
UID:41864
END:VEVENT
BEGIN:VEVENT
DTSTAMP;TZID=Asia/Hong_Kong:20260420T190208
DTSTART;TZID=Asia/Hong_Kong:20240903T123000
DTEND;TZID=Asia/Hong_Kong:20240903T133000
LOCATION:SSC Hub (next to Passion restaurant)
SUMMARY:Information Drop-In Session for our 2024 Sustainable Smart Campus Student Competition 
UID:41864
END:VEVENT
BEGIN:VEVENT
DTSTAMP;TZID=Asia/Hong_Kong:20260420T190208
DTSTART;TZID=Asia/Hong_Kong:20240904T123000
DTEND;TZID=Asia/Hong_Kong:20240904T133000
LOCATION:SSC Hub (next to Passion restaurant)
SUMMARY:Information Drop-In Session for our 2024 Sustainable Smart Campus Student Competition 
UID:41864
END:VEVENT
BEGIN:VEVENT
DTSTAMP;TZID=Asia/Hong_Kong:20260420T190208
DTSTART;TZID=Asia/Hong_Kong:20240905T123000
DTEND;TZID=Asia/Hong_Kong:20240905T133000
LOCATION:SSC Hub (next to Passion restaurant)
SUMMARY:Information Drop-In Session for our 2024 Sustainable Smart Campus Student Competition 
UID:41864
END:VEVENT
BEGIN:VEVENT
DTSTAMP;TZID=Asia/Hong_Kong:20260420T190208
DTSTART;TZID=Asia/Hong_Kong:20240906T123000
DTEND;TZID=Asia/Hong_Kong:20240906T133000
LOCATION:SSC Hub (next to Passion restaurant)
SUMMARY:Information Drop-In Session for our 2024 Sustainable Smart Campus Student Competition 
UID:41864
END:VEVENT
END:VCALENDAR