BEGIN:VCALENDAR
PRODID:-//HKUST Drupal Platform//EN
VERSION:2.0
BEGIN:VTIMEZONE
TZID:Asia/Hong_Kong
BEGIN:STANDARD
DTSTART:20071104T020000
TZOFFSETFROM:+0700
TZOFFSETTO:+0800
TZNAME:HKT
END:STANDARD
END:VTIMEZONE
BEGIN:VEVENT
DTSTAMP;TZID=Asia/Hong_Kong:20260423T091336
DTSTART;TZID=Asia/Hong_Kong:20240912T193000
DTEND;TZID=Asia/Hong_Kong:20240912T210000
LOCATION:Main Hall, Shaw Auditorium
SUMMARY:HKUST Arts for Fall 2024: Classic of the Classical Period
UID:41831
END:VEVENT
END:VCALENDAR