BEGIN:VCALENDAR
PRODID:-//HKUST Drupal Platform//EN
VERSION:2.0
BEGIN:VTIMEZONE
TZID:Asia/Hong_Kong
BEGIN:STANDARD
DTSTART:20071104T020000
TZOFFSETFROM:+0700
TZOFFSETTO:+0800
TZNAME:HKT
END:STANDARD
END:VTIMEZONE
BEGIN:VEVENT
DTSTAMP;TZID=Asia/Hong_Kong:20260420T155737
DTSTART;TZID=Asia/Hong_Kong:20240723T103000
DTEND;TZID=Asia/Hong_Kong:20240723T120000
LOCATION:Room 2406 (Lifts 17-18)
SUMMARY:Guest Seminar  - Optical Control of Light, Spin and Structural Dynamics of Halide Perovskites
UID:41519
END:VEVENT
END:VCALENDAR