BEGIN:VCALENDAR
PRODID:-//HKUST Drupal Platform//EN
VERSION:2.0
BEGIN:VTIMEZONE
TZID:Asia/Hong_Kong
BEGIN:STANDARD
DTSTART:20071104T020000
TZOFFSETFROM:+0700
TZOFFSETTO:+0800
TZNAME:HKT
END:STANDARD
END:VTIMEZONE
BEGIN:VEVENT
DTSTAMP;TZID=Asia/Hong_Kong:20260420T180818
DTSTART;TZID=Asia/Hong_Kong:20240702T150000
DTEND;TZID=Asia/Hong_Kong:20240702T163000
LOCATION:Room 4502,  4/F (Lifts 25-26), Academic Building
SUMMARY:Department of Chemistry Seminar - Basic Group in Stereoselective Transformations: From Ligand-Enabled Cooperative Gold Catalysis to A General Approach to SN2-type Glycosylation
UID:41283
END:VEVENT
END:VCALENDAR