BEGIN:VCALENDAR
PRODID:-//HKUST Drupal Platform//EN
VERSION:2.0
BEGIN:VTIMEZONE
TZID:Asia/Hong_Kong
BEGIN:STANDARD
DTSTART:20071104T020000
TZOFFSETFROM:+0700
TZOFFSETTO:+0800
TZNAME:HKT
END:STANDARD
END:VTIMEZONE
BEGIN:VEVENT
DTSTAMP;TZID=Asia/Hong_Kong:20260420T180910
DTSTART;TZID=Asia/Hong_Kong:20240623T090000
DTEND;TZID=Asia/Hong_Kong:20240623T150000
LOCATION:Shui On Ng Chau South Road Ping Che Workshop 瑞安五洲南路坪輋
SUMMARY:Invitation of Field Trip to BIPV for Smart Low-carbon MiC Public Housing for Onsite Survey 
UID:41269
END:VEVENT
BEGIN:VEVENT
DTSTAMP;TZID=Asia/Hong_Kong:20260420T180910
DTSTART;TZID=Asia/Hong_Kong:20240624T090000
DTEND;TZID=Asia/Hong_Kong:20240624T150000
LOCATION:Shui On Ng Chau South Road Ping Che Workshop 瑞安五洲南路坪輋
SUMMARY:Invitation of Field Trip to BIPV for Smart Low-carbon MiC Public Housing for Onsite Survey 
UID:41269
END:VEVENT
BEGIN:VEVENT
DTSTAMP;TZID=Asia/Hong_Kong:20260420T180910
DTSTART;TZID=Asia/Hong_Kong:20240625T090000
DTEND;TZID=Asia/Hong_Kong:20240625T150000
LOCATION:Shui On Ng Chau South Road Ping Che Workshop 瑞安五洲南路坪輋
SUMMARY:Invitation of Field Trip to BIPV for Smart Low-carbon MiC Public Housing for Onsite Survey 
UID:41269
END:VEVENT
END:VCALENDAR