BEGIN:VCALENDAR
PRODID:-//HKUST Drupal Platform//EN
VERSION:2.0
BEGIN:VTIMEZONE
TZID:Asia/Hong_Kong
BEGIN:STANDARD
DTSTART:20071104T020000
TZOFFSETFROM:+0700
TZOFFSETTO:+0800
TZNAME:HKT
END:STANDARD
END:VTIMEZONE
BEGIN:VEVENT
DTSTAMP;TZID=Asia/Hong_Kong:20260420T190209
DTSTART;TZID=Asia/Hong_Kong:20240429T093000
DTEND;TZID=Asia/Hong_Kong:20240429T103000
LOCATION:Room 3598, 3/F (Lifts 27-28), Academic Building
SUMMARY:Department of Chemistry - PhD Student Seminar - Evaluation of MXenes in field of energy storage
UID:40786
END:VEVENT
END:VCALENDAR