BEGIN:VCALENDAR
PRODID:-//HKUST Drupal Platform//EN
VERSION:2.0
BEGIN:VTIMEZONE
TZID:Asia/Hong_Kong
BEGIN:STANDARD
DTSTART:20071104T020000
TZOFFSETFROM:+0700
TZOFFSETTO:+0800
TZNAME:HKT
END:STANDARD
END:VTIMEZONE
BEGIN:VEVENT
DTSTAMP;TZID=Asia/Hong_Kong:20260423T090548
DTSTART;TZID=Asia/Hong_Kong:20240412T133000
DTEND;TZID=Asia/Hong_Kong:20240412T150000
LOCATION:3401室 (2號升降機), 學術大樓
SUMMARY:Division of Humanities Seminar - 清代滿文《四書》的翻譯、流通及其文化意蘊探論 Manchu Translation, Circulation and Cultural Implications of the Confucian Four Books in the Qing Dynasty
UID:40572
END:VEVENT
END:VCALENDAR