BEGIN:VCALENDAR
PRODID:-//HKUST Drupal Platform//EN
VERSION:2.0
BEGIN:VTIMEZONE
TZID:Asia/Hong_Kong
BEGIN:STANDARD
DTSTART:20071104T020000
TZOFFSETFROM:+0700
TZOFFSETTO:+0800
TZNAME:HKT
END:STANDARD
END:VTIMEZONE
BEGIN:VEVENT
DTSTAMP;TZID=Asia/Hong_Kong:20260420T132901
DTSTART;TZID=Asia/Hong_Kong:20240318T130000
DTEND;TZID=Asia/Hong_Kong:20240318T140000
LOCATION:CIVL Conference Room (Rm3574)
SUMMARY:[REMINDER] GSCI SEMINARS  - Sustainable Development: Results from Mekong Delta Programs & Ho Chi Minh Smart City
UID:40368
END:VEVENT
END:VCALENDAR