BEGIN:VCALENDAR
PRODID:-//HKUST Drupal Platform//EN
VERSION:2.0
BEGIN:VTIMEZONE
TZID:Asia/Hong_Kong
BEGIN:STANDARD
DTSTART:20071104T020000
TZOFFSETFROM:+0700
TZOFFSETTO:+0800
TZNAME:HKT
END:STANDARD
END:VTIMEZONE
BEGIN:VEVENT
DTSTAMP;TZID=Asia/Hong_Kong:20260420T132905
DTSTART;TZID=Asia/Hong_Kong:20240327T103000
DTEND;TZID=Asia/Hong_Kong:20240327T113000
LOCATION:Room 3574 (Lift 27/28), Civil Engineering Conference Room, HKUST
SUMMARY:Civil Engineering Departmental Seminar  - Next-generation reinforced concrete: Brittle behaviour and Fracture Mechanics assessment
UID:40355
END:VEVENT
END:VCALENDAR