BEGIN:VCALENDAR
PRODID:-//HKUST Drupal Platform//EN
VERSION:2.0
BEGIN:VTIMEZONE
TZID:Asia/Hong_Kong
BEGIN:STANDARD
DTSTART:20071104T020000
TZOFFSETFROM:+0700
TZOFFSETTO:+0800
TZNAME:HKT
END:STANDARD
END:VTIMEZONE
BEGIN:VEVENT
DTSTAMP;TZID=Asia/Hong_Kong:20260420T084759
DTSTART;TZID=Asia/Hong_Kong:20240322T150000
DTEND;TZID=Asia/Hong_Kong:20240322T160000
SUMMARY:Civil Engineering Departmental Seminar  - MODELING THE WATER QUALITY IMPACTS OF THE ECOLOGICAL SEPARATION OF THE GREAT LAKES AND MISSISSIPPI RIVER BASINS AT CHICAGO FOR INVASIVE SPECIES CONTROL
UID:40353
END:VEVENT
END:VCALENDAR