BEGIN:VCALENDAR
PRODID:-//HKUST Drupal Platform//EN
VERSION:2.0
BEGIN:VTIMEZONE
TZID:Asia/Hong_Kong
BEGIN:STANDARD
DTSTART:20071104T020000
TZOFFSETFROM:+0700
TZOFFSETTO:+0800
TZNAME:HKT
END:STANDARD
END:VTIMEZONE
BEGIN:VEVENT
DTSTAMP;TZID=Asia/Hong_Kong:20260420T221221
DTSTART;TZID=Asia/Hong_Kong:20240304T160000
DTEND;TZID=Asia/Hong_Kong:20240304T170000
LOCATION:Room 5506, 5/F (Lifts 25/26), Academic Building
SUMMARY:Department of Chemistry - PhD Student Seminar - Immunogenic cell death and its application in cancer treatment
UID:40199
END:VEVENT
END:VCALENDAR