BEGIN:VCALENDAR
PRODID:-//HKUST Drupal Platform//EN
VERSION:2.0
BEGIN:VTIMEZONE
TZID:Asia/Hong_Kong
BEGIN:STANDARD
DTSTART:20071104T020000
TZOFFSETFROM:+0700
TZOFFSETTO:+0800
TZNAME:HKT
END:STANDARD
END:VTIMEZONE
BEGIN:VEVENT
DTSTAMP;TZID=Asia/Hong_Kong:20260421T023027
DTSTART;TZID=Asia/Hong_Kong:20240306T140000
DTEND;TZID=Asia/Hong_Kong:20240306T150000
LOCATION:W1-102
SUMMARY:QST Seminar - Physics and Applications of Zero-index Materials — From 2D to 3D
UID:40194
END:VEVENT
END:VCALENDAR