BEGIN:VCALENDAR
PRODID:-//HKUST Drupal Platform//EN
VERSION:2.0
BEGIN:VTIMEZONE
TZID:Asia/Hong_Kong
BEGIN:STANDARD
DTSTART:20071104T020000
TZOFFSETFROM:+0700
TZOFFSETTO:+0800
TZNAME:HKT
END:STANDARD
END:VTIMEZONE
BEGIN:VEVENT
DTSTAMP;TZID=Asia/Hong_Kong:20260421T032846
DTSTART;TZID=Asia/Hong_Kong:20240227T133000
DTEND;TZID=Asia/Hong_Kong:20240227T150000
LOCATION:Room 3598, 3/F (Lift 27-28), Academic Building, HKUST
SUMMARY:Department of Chemistry Seminar - Ambient ionization mass spectrometry for spatial pharmaco-metabolomics and microdroplet chemistry
UID:40011
END:VEVENT
END:VCALENDAR