BEGIN:VCALENDAR
PRODID:-//HKUST Drupal Platform//EN
VERSION:2.0
BEGIN:VTIMEZONE
TZID:Asia/Hong_Kong
BEGIN:STANDARD
DTSTART:20071104T020000
TZOFFSETFROM:+0700
TZOFFSETTO:+0800
TZNAME:HKT
END:STANDARD
END:VTIMEZONE
BEGIN:VEVENT
DTSTAMP;TZID=Asia/Hong_Kong:20260420T132904
DTSTART;TZID=Asia/Hong_Kong:20240222T103000
DTEND;TZID=Asia/Hong_Kong:20240222T113000
SUMMARY:Civil Engineering Departmental Seminar  - Publish Successfully - Some Important Aspects
UID:40003
END:VEVENT
END:VCALENDAR