BEGIN:VCALENDAR
PRODID:-//HKUST Drupal Platform//EN
VERSION:2.0
BEGIN:VTIMEZONE
TZID:Asia/Hong_Kong
BEGIN:STANDARD
DTSTART:20071104T020000
TZOFFSETFROM:+0700
TZOFFSETTO:+0800
TZNAME:HKT
END:STANDARD
END:VTIMEZONE
BEGIN:VEVENT
DTSTAMP;TZID=Asia/Hong_Kong:20260420T112737
DTSTART;TZID=Asia/Hong_Kong:20240125T120000
DTEND;TZID=Asia/Hong_Kong:20240125T234500
LOCATION:Online
SUMMARY:SENG Internship Experience Sharing Competition - Spring 2023-24
UID:39890
END:VEVENT
BEGIN:VEVENT
DTSTAMP;TZID=Asia/Hong_Kong:20260420T112737
DTSTART;TZID=Asia/Hong_Kong:20240126T120000
DTEND;TZID=Asia/Hong_Kong:20240126T234500
LOCATION:Online
SUMMARY:SENG Internship Experience Sharing Competition - Spring 2023-24
UID:39890
END:VEVENT
BEGIN:VEVENT
DTSTAMP;TZID=Asia/Hong_Kong:20260420T112737
DTSTART;TZID=Asia/Hong_Kong:20240127T120000
DTEND;TZID=Asia/Hong_Kong:20240127T234500
LOCATION:Online
SUMMARY:SENG Internship Experience Sharing Competition - Spring 2023-24
UID:39890
END:VEVENT
BEGIN:VEVENT
DTSTAMP;TZID=Asia/Hong_Kong:20260420T112737
DTSTART;TZID=Asia/Hong_Kong:20240128T120000
DTEND;TZID=Asia/Hong_Kong:20240128T234500
LOCATION:Online
SUMMARY:SENG Internship Experience Sharing Competition - Spring 2023-24
UID:39890
END:VEVENT
BEGIN:VEVENT
DTSTAMP;TZID=Asia/Hong_Kong:20260420T112737
DTSTART;TZID=Asia/Hong_Kong:20240129T120000
DTEND;TZID=Asia/Hong_Kong:20240129T234500
LOCATION:Online
SUMMARY:SENG Internship Experience Sharing Competition - Spring 2023-24
UID:39890
END:VEVENT
BEGIN:VEVENT
DTSTAMP;TZID=Asia/Hong_Kong:20260420T112737
DTSTART;TZID=Asia/Hong_Kong:20240130T120000
DTEND;TZID=Asia/Hong_Kong:20240130T234500
LOCATION:Online
SUMMARY:SENG Internship Experience Sharing Competition - Spring 2023-24
UID:39890
END:VEVENT
BEGIN:VEVENT
DTSTAMP;TZID=Asia/Hong_Kong:20260420T112737
DTSTART;TZID=Asia/Hong_Kong:20240131T120000
DTEND;TZID=Asia/Hong_Kong:20240131T234500
LOCATION:Online
SUMMARY:SENG Internship Experience Sharing Competition - Spring 2023-24
UID:39890
END:VEVENT
BEGIN:VEVENT
DTSTAMP;TZID=Asia/Hong_Kong:20260420T112737
DTSTART;TZID=Asia/Hong_Kong:20240201T120000
DTEND;TZID=Asia/Hong_Kong:20240201T234500
LOCATION:Online
SUMMARY:SENG Internship Experience Sharing Competition - Spring 2023-24
UID:39890
END:VEVENT
BEGIN:VEVENT
DTSTAMP;TZID=Asia/Hong_Kong:20260420T112737
DTSTART;TZID=Asia/Hong_Kong:20240202T120000
DTEND;TZID=Asia/Hong_Kong:20240202T234500
LOCATION:Online
SUMMARY:SENG Internship Experience Sharing Competition - Spring 2023-24
UID:39890
END:VEVENT
BEGIN:VEVENT
DTSTAMP;TZID=Asia/Hong_Kong:20260420T112737
DTSTART;TZID=Asia/Hong_Kong:20240203T120000
DTEND;TZID=Asia/Hong_Kong:20240203T234500
LOCATION:Online
SUMMARY:SENG Internship Experience Sharing Competition - Spring 2023-24
UID:39890
END:VEVENT
BEGIN:VEVENT
DTSTAMP;TZID=Asia/Hong_Kong:20260420T112737
DTSTART;TZID=Asia/Hong_Kong:20240204T120000
DTEND;TZID=Asia/Hong_Kong:20240204T234500
LOCATION:Online
SUMMARY:SENG Internship Experience Sharing Competition - Spring 2023-24
UID:39890
END:VEVENT
BEGIN:VEVENT
DTSTAMP;TZID=Asia/Hong_Kong:20260420T112737
DTSTART;TZID=Asia/Hong_Kong:20240205T120000
DTEND;TZID=Asia/Hong_Kong:20240205T234500
LOCATION:Online
SUMMARY:SENG Internship Experience Sharing Competition - Spring 2023-24
UID:39890
END:VEVENT
BEGIN:VEVENT
DTSTAMP;TZID=Asia/Hong_Kong:20260420T112737
DTSTART;TZID=Asia/Hong_Kong:20240206T120000
DTEND;TZID=Asia/Hong_Kong:20240206T234500
LOCATION:Online
SUMMARY:SENG Internship Experience Sharing Competition - Spring 2023-24
UID:39890
END:VEVENT
BEGIN:VEVENT
DTSTAMP;TZID=Asia/Hong_Kong:20260420T112737
DTSTART;TZID=Asia/Hong_Kong:20240207T120000
DTEND;TZID=Asia/Hong_Kong:20240207T234500
LOCATION:Online
SUMMARY:SENG Internship Experience Sharing Competition - Spring 2023-24
UID:39890
END:VEVENT
BEGIN:VEVENT
DTSTAMP;TZID=Asia/Hong_Kong:20260420T112737
DTSTART;TZID=Asia/Hong_Kong:20240208T120000
DTEND;TZID=Asia/Hong_Kong:20240208T234500
LOCATION:Online
SUMMARY:SENG Internship Experience Sharing Competition - Spring 2023-24
UID:39890
END:VEVENT
BEGIN:VEVENT
DTSTAMP;TZID=Asia/Hong_Kong:20260420T112737
DTSTART;TZID=Asia/Hong_Kong:20240209T120000
DTEND;TZID=Asia/Hong_Kong:20240209T234500
LOCATION:Online
SUMMARY:SENG Internship Experience Sharing Competition - Spring 2023-24
UID:39890
END:VEVENT
BEGIN:VEVENT
DTSTAMP;TZID=Asia/Hong_Kong:20260420T112737
DTSTART;TZID=Asia/Hong_Kong:20240210T120000
DTEND;TZID=Asia/Hong_Kong:20240210T234500
LOCATION:Online
SUMMARY:SENG Internship Experience Sharing Competition - Spring 2023-24
UID:39890
END:VEVENT
BEGIN:VEVENT
DTSTAMP;TZID=Asia/Hong_Kong:20260420T112737
DTSTART;TZID=Asia/Hong_Kong:20240211T120000
DTEND;TZID=Asia/Hong_Kong:20240211T234500
LOCATION:Online
SUMMARY:SENG Internship Experience Sharing Competition - Spring 2023-24
UID:39890
END:VEVENT
BEGIN:VEVENT
DTSTAMP;TZID=Asia/Hong_Kong:20260420T112737
DTSTART;TZID=Asia/Hong_Kong:20240212T120000
DTEND;TZID=Asia/Hong_Kong:20240212T234500
LOCATION:Online
SUMMARY:SENG Internship Experience Sharing Competition - Spring 2023-24
UID:39890
END:VEVENT
BEGIN:VEVENT
DTSTAMP;TZID=Asia/Hong_Kong:20260420T112737
DTSTART;TZID=Asia/Hong_Kong:20240213T120000
DTEND;TZID=Asia/Hong_Kong:20240213T234500
LOCATION:Online
SUMMARY:SENG Internship Experience Sharing Competition - Spring 2023-24
UID:39890
END:VEVENT
BEGIN:VEVENT
DTSTAMP;TZID=Asia/Hong_Kong:20260420T112737
DTSTART;TZID=Asia/Hong_Kong:20240214T120000
DTEND;TZID=Asia/Hong_Kong:20240214T234500
LOCATION:Online
SUMMARY:SENG Internship Experience Sharing Competition - Spring 2023-24
UID:39890
END:VEVENT
BEGIN:VEVENT
DTSTAMP;TZID=Asia/Hong_Kong:20260420T112737
DTSTART;TZID=Asia/Hong_Kong:20240215T120000
DTEND;TZID=Asia/Hong_Kong:20240215T234500
LOCATION:Online
SUMMARY:SENG Internship Experience Sharing Competition - Spring 2023-24
UID:39890
END:VEVENT
BEGIN:VEVENT
DTSTAMP;TZID=Asia/Hong_Kong:20260420T112737
DTSTART;TZID=Asia/Hong_Kong:20240216T120000
DTEND;TZID=Asia/Hong_Kong:20240216T234500
LOCATION:Online
SUMMARY:SENG Internship Experience Sharing Competition - Spring 2023-24
UID:39890
END:VEVENT
BEGIN:VEVENT
DTSTAMP;TZID=Asia/Hong_Kong:20260420T112737
DTSTART;TZID=Asia/Hong_Kong:20240217T120000
DTEND;TZID=Asia/Hong_Kong:20240217T234500
LOCATION:Online
SUMMARY:SENG Internship Experience Sharing Competition - Spring 2023-24
UID:39890
END:VEVENT
BEGIN:VEVENT
DTSTAMP;TZID=Asia/Hong_Kong:20260420T112737
DTSTART;TZID=Asia/Hong_Kong:20240218T120000
DTEND;TZID=Asia/Hong_Kong:20240218T234500
LOCATION:Online
SUMMARY:SENG Internship Experience Sharing Competition - Spring 2023-24
UID:39890
END:VEVENT
BEGIN:VEVENT
DTSTAMP;TZID=Asia/Hong_Kong:20260420T112737
DTSTART;TZID=Asia/Hong_Kong:20240219T120000
DTEND;TZID=Asia/Hong_Kong:20240219T234500
LOCATION:Online
SUMMARY:SENG Internship Experience Sharing Competition - Spring 2023-24
UID:39890
END:VEVENT
BEGIN:VEVENT
DTSTAMP;TZID=Asia/Hong_Kong:20260420T112737
DTSTART;TZID=Asia/Hong_Kong:20240220T120000
DTEND;TZID=Asia/Hong_Kong:20240220T234500
LOCATION:Online
SUMMARY:SENG Internship Experience Sharing Competition - Spring 2023-24
UID:39890
END:VEVENT
BEGIN:VEVENT
DTSTAMP;TZID=Asia/Hong_Kong:20260420T112737
DTSTART;TZID=Asia/Hong_Kong:20240221T120000
DTEND;TZID=Asia/Hong_Kong:20240221T234500
LOCATION:Online
SUMMARY:SENG Internship Experience Sharing Competition - Spring 2023-24
UID:39890
END:VEVENT
BEGIN:VEVENT
DTSTAMP;TZID=Asia/Hong_Kong:20260420T112737
DTSTART;TZID=Asia/Hong_Kong:20240222T120000
DTEND;TZID=Asia/Hong_Kong:20240222T234500
LOCATION:Online
SUMMARY:SENG Internship Experience Sharing Competition - Spring 2023-24
UID:39890
END:VEVENT
END:VCALENDAR