BEGIN:VCALENDAR
PRODID:-//HKUST Drupal Platform//EN
VERSION:2.0
BEGIN:VTIMEZONE
TZID:Asia/Hong_Kong
BEGIN:STANDARD
DTSTART:20071104T020000
TZOFFSETFROM:+0700
TZOFFSETTO:+0800
TZNAME:HKT
END:STANDARD
END:VTIMEZONE
BEGIN:VEVENT
DTSTAMP;TZID=Asia/Hong_Kong:20260420T194048
DTSTART;TZID=Asia/Hong_Kong:20240220T133000
DTEND;TZID=Asia/Hong_Kong:20240220T150000
LOCATION:Room 1103, 1/F (Lift 19, beside LT-A), Academic Building, HKUST
SUMMARY:Department of Chemistry Seminar - Advancing Mass Spectrometry-based Proteomics for the Discovery of Signaling Network and Disease Biomarker
UID:39857
END:VEVENT
END:VCALENDAR