BEGIN:VCALENDAR
PRODID:-//HKUST Drupal Platform//EN
VERSION:2.0
BEGIN:VTIMEZONE
TZID:Asia/Hong_Kong
BEGIN:STANDARD
DTSTART:20071104T020000
TZOFFSETFROM:+0700
TZOFFSETTO:+0800
TZNAME:HKT
END:STANDARD
END:VTIMEZONE
BEGIN:VEVENT
DTSTAMP;TZID=Asia/Hong_Kong:20260420T192910
DTSTART;TZID=Asia/Hong_Kong:20231214T170000
DTEND;TZID=Asia/Hong_Kong:20231214T180000
LOCATION:Room 1410, 1/F (Lifts 25-26), Academic Building, HKUST
SUMMARY:Department of Chemistry Seminar - Finding a Needle in a Haystack: Active Manipulation and Characterization of Biological Macromolecules at the Single-molecule Level
UID:39652
END:VEVENT
END:VCALENDAR