BEGIN:VCALENDAR
PRODID:-//HKUST Drupal Platform//EN
VERSION:2.0
BEGIN:VTIMEZONE
TZID:Asia/Hong_Kong
BEGIN:STANDARD
DTSTART:20071104T020000
TZOFFSETFROM:+0700
TZOFFSETTO:+0800
TZNAME:HKT
END:STANDARD
END:VTIMEZONE
BEGIN:VEVENT
DTSTAMP;TZID=Asia/Hong_Kong:20260420T215423
DTSTART;TZID=Asia/Hong_Kong:20231207T110000
DTEND;TZID=Asia/Hong_Kong:20231207T120000
LOCATION:Room 1410, 1/F (Lifts 25-26), Academic Building, HKUST
SUMMARY:Department of Chemistry Seminar - Low-Coordinate Low-Valent 3d Metal Complexes with NHC Ligation and Beyond
UID:39488
END:VEVENT
END:VCALENDAR