BEGIN:VCALENDAR
PRODID:-//HKUST Drupal Platform//EN
VERSION:2.0
BEGIN:VTIMEZONE
TZID:Asia/Hong_Kong
BEGIN:STANDARD
DTSTART:20071104T020000
TZOFFSETFROM:+0700
TZOFFSETTO:+0800
TZNAME:HKT
END:STANDARD
END:VTIMEZONE
BEGIN:VEVENT
DTSTAMP;TZID=Asia/Hong_Kong:20260420T152212
DTSTART;TZID=Asia/Hong_Kong:20231124T150000
DTEND;TZID=Asia/Hong_Kong:20231124T160000
LOCATION:Mr and Mrs Lee Siu Lun Lecture Theater K (LT-K) 
SUMMARY:OKT IP Seminar  - US vs. China Patents, from Patentable Subject Matter and Claim Languages to the Nuances of Examination
UID:39158
END:VEVENT
END:VCALENDAR