BEGIN:VCALENDAR
PRODID:-//HKUST Drupal Platform//EN
VERSION:2.0
BEGIN:VTIMEZONE
TZID:Asia/Hong_Kong
BEGIN:STANDARD
DTSTART:20071104T020000
TZOFFSETFROM:+0700
TZOFFSETTO:+0800
TZNAME:HKT
END:STANDARD
END:VTIMEZONE
BEGIN:VEVENT
DTSTAMP;TZID=Asia/Hong_Kong:20260420T064225
DTSTART;TZID=Asia/Hong_Kong:20231031T090000
DTEND;TZID=Asia/Hong_Kong:20231031T123000
LOCATION:香港科技大学协同创业中心创业基地 (1/F, 近29&30号电梯) 
SUMMARY:BICI科技商业化经验分享及经费申请简报
UID:38985
END:VEVENT
END:VCALENDAR