BEGIN:VCALENDAR
PRODID:-//HKUST Drupal Platform//EN
VERSION:2.0
BEGIN:VTIMEZONE
TZID:Asia/Hong_Kong
BEGIN:STANDARD
DTSTART:20071104T020000
TZOFFSETFROM:+0700
TZOFFSETTO:+0800
TZNAME:HKT
END:STANDARD
END:VTIMEZONE
BEGIN:VEVENT
DTSTAMP;TZID=Asia/Hong_Kong:20260420T193935
DTSTART;TZID=Asia/Hong_Kong:20231027T103000
DTEND;TZID=Asia/Hong_Kong:20231027T120000
LOCATION:Room 1410, 1/F (near Lifts 25-26), Academic Building, HKUST
SUMMARY:Department of Chemistry Seminar - Hybrid Perovskite Formates: From Multiferroics to Carbon Capture
UID:38982
END:VEVENT
END:VCALENDAR