BEGIN:VCALENDAR
PRODID:-//HKUST Drupal Platform//EN
VERSION:2.0
BEGIN:VTIMEZONE
TZID:Asia/Hong_Kong
BEGIN:STANDARD
DTSTART:20071104T020000
TZOFFSETFROM:+0700
TZOFFSETTO:+0800
TZNAME:HKT
END:STANDARD
END:VTIMEZONE
BEGIN:VEVENT
DTSTAMP;TZID=Asia/Hong_Kong:20260420T155647
DTSTART;TZID=Asia/Hong_Kong:20231013T143000
DTEND;TZID=Asia/Hong_Kong:20231013T170000
LOCATION:Room 209, Shaw Auditorium, HKUST
SUMMARY:Sketching Shaw Auditorium with Noble Wong
UID:38647
END:VEVENT
BEGIN:VEVENT
DTSTAMP;TZID=Asia/Hong_Kong:20260420T155647
DTSTART;TZID=Asia/Hong_Kong:20231014T143000
DTEND;TZID=Asia/Hong_Kong:20231014T170000
LOCATION:Room 209, Shaw Auditorium, HKUST
SUMMARY:Sketching Shaw Auditorium with Noble Wong
UID:38647
END:VEVENT
BEGIN:VEVENT
DTSTAMP;TZID=Asia/Hong_Kong:20260420T155647
DTSTART;TZID=Asia/Hong_Kong:20231015T143000
DTEND;TZID=Asia/Hong_Kong:20231015T170000
LOCATION:Room 209, Shaw Auditorium, HKUST
SUMMARY:Sketching Shaw Auditorium with Noble Wong
UID:38647
END:VEVENT
BEGIN:VEVENT
DTSTAMP;TZID=Asia/Hong_Kong:20260420T155647
DTSTART;TZID=Asia/Hong_Kong:20231016T143000
DTEND;TZID=Asia/Hong_Kong:20231016T170000
LOCATION:Room 209, Shaw Auditorium, HKUST
SUMMARY:Sketching Shaw Auditorium with Noble Wong
UID:38647
END:VEVENT
BEGIN:VEVENT
DTSTAMP;TZID=Asia/Hong_Kong:20260420T155647
DTSTART;TZID=Asia/Hong_Kong:20231017T143000
DTEND;TZID=Asia/Hong_Kong:20231017T170000
LOCATION:Room 209, Shaw Auditorium, HKUST
SUMMARY:Sketching Shaw Auditorium with Noble Wong
UID:38647
END:VEVENT
BEGIN:VEVENT
DTSTAMP;TZID=Asia/Hong_Kong:20260420T155647
DTSTART;TZID=Asia/Hong_Kong:20231018T143000
DTEND;TZID=Asia/Hong_Kong:20231018T170000
LOCATION:Room 209, Shaw Auditorium, HKUST
SUMMARY:Sketching Shaw Auditorium with Noble Wong
UID:38647
END:VEVENT
BEGIN:VEVENT
DTSTAMP;TZID=Asia/Hong_Kong:20260420T155647
DTSTART;TZID=Asia/Hong_Kong:20231019T143000
DTEND;TZID=Asia/Hong_Kong:20231019T170000
LOCATION:Room 209, Shaw Auditorium, HKUST
SUMMARY:Sketching Shaw Auditorium with Noble Wong
UID:38647
END:VEVENT
BEGIN:VEVENT
DTSTAMP;TZID=Asia/Hong_Kong:20260420T155647
DTSTART;TZID=Asia/Hong_Kong:20231020T143000
DTEND;TZID=Asia/Hong_Kong:20231020T170000
LOCATION:Room 209, Shaw Auditorium, HKUST
SUMMARY:Sketching Shaw Auditorium with Noble Wong
UID:38647
END:VEVENT
BEGIN:VEVENT
DTSTAMP;TZID=Asia/Hong_Kong:20260420T155647
DTSTART;TZID=Asia/Hong_Kong:20231021T143000
DTEND;TZID=Asia/Hong_Kong:20231021T170000
LOCATION:Room 209, Shaw Auditorium, HKUST
SUMMARY:Sketching Shaw Auditorium with Noble Wong
UID:38647
END:VEVENT
BEGIN:VEVENT
DTSTAMP;TZID=Asia/Hong_Kong:20260420T155647
DTSTART;TZID=Asia/Hong_Kong:20231022T143000
DTEND;TZID=Asia/Hong_Kong:20231022T170000
LOCATION:Room 209, Shaw Auditorium, HKUST
SUMMARY:Sketching Shaw Auditorium with Noble Wong
UID:38647
END:VEVENT
BEGIN:VEVENT
DTSTAMP;TZID=Asia/Hong_Kong:20260420T155647
DTSTART;TZID=Asia/Hong_Kong:20231023T143000
DTEND;TZID=Asia/Hong_Kong:20231023T170000
LOCATION:Room 209, Shaw Auditorium, HKUST
SUMMARY:Sketching Shaw Auditorium with Noble Wong
UID:38647
END:VEVENT
BEGIN:VEVENT
DTSTAMP;TZID=Asia/Hong_Kong:20260420T155647
DTSTART;TZID=Asia/Hong_Kong:20231024T143000
DTEND;TZID=Asia/Hong_Kong:20231024T170000
LOCATION:Room 209, Shaw Auditorium, HKUST
SUMMARY:Sketching Shaw Auditorium with Noble Wong
UID:38647
END:VEVENT
BEGIN:VEVENT
DTSTAMP;TZID=Asia/Hong_Kong:20260420T155647
DTSTART;TZID=Asia/Hong_Kong:20231025T143000
DTEND;TZID=Asia/Hong_Kong:20231025T170000
LOCATION:Room 209, Shaw Auditorium, HKUST
SUMMARY:Sketching Shaw Auditorium with Noble Wong
UID:38647
END:VEVENT
BEGIN:VEVENT
DTSTAMP;TZID=Asia/Hong_Kong:20260420T155647
DTSTART;TZID=Asia/Hong_Kong:20231026T143000
DTEND;TZID=Asia/Hong_Kong:20231026T170000
LOCATION:Room 209, Shaw Auditorium, HKUST
SUMMARY:Sketching Shaw Auditorium with Noble Wong
UID:38647
END:VEVENT
BEGIN:VEVENT
DTSTAMP;TZID=Asia/Hong_Kong:20260420T155647
DTSTART;TZID=Asia/Hong_Kong:20231027T143000
DTEND;TZID=Asia/Hong_Kong:20231027T170000
LOCATION:Room 209, Shaw Auditorium, HKUST
SUMMARY:Sketching Shaw Auditorium with Noble Wong
UID:38647
END:VEVENT
END:VCALENDAR