BEGIN:VCALENDAR
PRODID:-//HKUST Drupal Platform//EN
VERSION:2.0
BEGIN:VTIMEZONE
TZID:Asia/Hong_Kong
BEGIN:STANDARD
DTSTART:20071104T020000
TZOFFSETFROM:+0700
TZOFFSETTO:+0800
TZNAME:HKT
END:STANDARD
END:VTIMEZONE
BEGIN:VEVENT
DTSTAMP;TZID=Asia/Hong_Kong:20260420T152214
DTSTART;TZID=Asia/Hong_Kong:20230920T150000
DTEND;TZID=Asia/Hong_Kong:20230920T160000
LOCATION:2/F Seminar Room, IAS
SUMMARY:IP Seminar  - Hong Kong Original Grant Patent System: Striving Innovation and IP Protection
UID:38536
END:VEVENT
END:VCALENDAR