BEGIN:VCALENDAR
PRODID:-//HKUST Drupal Platform//EN
VERSION:2.0
BEGIN:VTIMEZONE
TZID:Asia/Hong_Kong
BEGIN:STANDARD
DTSTART:20071104T020000
TZOFFSETFROM:+0700
TZOFFSETTO:+0800
TZNAME:HKT
END:STANDARD
END:VTIMEZONE
BEGIN:VEVENT
DTSTAMP;TZID=Asia/Hong_Kong:20260420T152209
DTSTART;TZID=Asia/Hong_Kong:20230922T130000
DTEND;TZID=Asia/Hong_Kong:20230922T140000
LOCATION:Rm3598 / Zoom
SUMMARY:FRIDAY SEMINAR SERIES  - Adopting Smart Green Resilient (SGR) approach for the transformation of HKIA from a city airport to Airport City
UID:38517
END:VEVENT
END:VCALENDAR