BEGIN:VCALENDAR
PRODID:-//HKUST Drupal Platform//EN
VERSION:2.0
BEGIN:VTIMEZONE
TZID:Asia/Hong_Kong
BEGIN:STANDARD
DTSTART:20071104T020000
TZOFFSETFROM:+0700
TZOFFSETTO:+0800
TZNAME:HKT
END:STANDARD
END:VTIMEZONE
BEGIN:VEVENT
DTSTAMP;TZID=Asia/Hong_Kong:20260420T152215
DTSTART;TZID=Asia/Hong_Kong:20230823T143000
DTEND;TZID=Asia/Hong_Kong:20230823T153000
LOCATION:Room 6602 (Lift 31-32)
SUMMARY:Civil Engineering Departmental Seminar  - Land-atmosphere feedbacks and implications for urban heat and its mitigation
UID:38445
END:VEVENT
END:VCALENDAR