BEGIN:VCALENDAR
PRODID:-//HKUST Drupal Platform//EN
VERSION:2.0
BEGIN:VTIMEZONE
TZID:Asia/Hong_Kong
BEGIN:STANDARD
DTSTART:20071104T020000
TZOFFSETFROM:+0700
TZOFFSETTO:+0800
TZNAME:HKT
END:STANDARD
END:VTIMEZONE
BEGIN:VEVENT
DTSTAMP;TZID=Asia/Hong_Kong:20260420T165625
DTSTART;TZID=Asia/Hong_Kong:20230822T160000
DTEND;TZID=Asia/Hong_Kong:20230822T173000
LOCATION:Meeting Point, 7/F, Building 19W HK Science Park, Shatin
SUMMARY:“CHUTZPAH”  - SKILLS FOR THE FUTURE ENTREPRENEUR
UID:38391
END:VEVENT
END:VCALENDAR