BEGIN:VCALENDAR
PRODID:-//HKUST Drupal Platform//EN
VERSION:2.0
BEGIN:VTIMEZONE
TZID:Asia/Hong_Kong
BEGIN:STANDARD
DTSTART:20071104T020000
TZOFFSETFROM:+0700
TZOFFSETTO:+0800
TZNAME:HKT
END:STANDARD
END:VTIMEZONE
BEGIN:VEVENT
DTSTAMP;TZID=Asia/Hong_Kong:20260420T233555
DTSTART;TZID=Asia/Hong_Kong:20230801T103000
DTEND;TZID=Asia/Hong_Kong:20230801T120000
LOCATION:Room 2465, 2/F (Lifts 25-26), Academic Building, HKUST
SUMMARY:Department of Chemistry Seminar - Palladium-Catalyzed Oxidation Reactions of Unsaturated Bonds
UID:38086
END:VEVENT
END:VCALENDAR