BEGIN:VCALENDAR
PRODID:-//HKUST Drupal Platform//EN
VERSION:2.0
BEGIN:VTIMEZONE
TZID:Asia/Hong_Kong
BEGIN:STANDARD
DTSTART:20071104T020000
TZOFFSETFROM:+0700
TZOFFSETTO:+0800
TZNAME:HKT
END:STANDARD
END:VTIMEZONE
BEGIN:VEVENT
DTSTAMP;TZID=Asia/Hong_Kong:20260420T152209
DTSTART;TZID=Asia/Hong_Kong:20230725T100000
DTEND;TZID=Asia/Hong_Kong:20230725T130000
LOCATION:Room 3574 (Lifts 27-28), 3/F Academic Building, HKUST
SUMMARY:PHD in Civil Engineering - Towards Sustainable and Resilient Coastal Cities: Opportunities and Strategies for Integrating Seawater and Solar Energy in Sanitation and Space Cooling
UID:38013
END:VEVENT
END:VCALENDAR