BEGIN:VCALENDAR
PRODID:-//HKUST Drupal Platform//EN
VERSION:2.0
BEGIN:VTIMEZONE
TZID:Asia/Hong_Kong
BEGIN:STANDARD
DTSTART:20071104T020000
TZOFFSETFROM:+0700
TZOFFSETTO:+0800
TZNAME:HKT
END:STANDARD
END:VTIMEZONE
BEGIN:VEVENT
DTSTAMP;TZID=Asia/Hong_Kong:20260420T152216
DTSTART;TZID=Asia/Hong_Kong:20230530T000000
DTEND;TZID=Asia/Hong_Kong:20230630T235900
SUMMARY:2023 APRU Global Health Student Poster Contest in conjunction with the 16th APRU Global Health Conference 2023
UID:37687
END:VEVENT
END:VCALENDAR