BEGIN:VCALENDAR
PRODID:-//HKUST Drupal Platform//EN
VERSION:2.0
BEGIN:VTIMEZONE
TZID:Asia/Hong_Kong
BEGIN:STANDARD
DTSTART:20071104T020000
TZOFFSETFROM:+0700
TZOFFSETTO:+0800
TZNAME:HKT
END:STANDARD
END:VTIMEZONE
BEGIN:VEVENT
DTSTAMP;TZID=Asia/Hong_Kong:20260420T152250
DTSTART;TZID=Asia/Hong_Kong:20230516T083000
DTEND;TZID=Asia/Hong_Kong:20230516T180000
LOCATION:Institute for Advanced Study (IAS), HKUST
SUMMARY:研討會  - 未來海上人居工程發展技術研討會
UID:37434
END:VEVENT
END:VCALENDAR